BEGIN:VCALENDAR
VERSION:2.0
PRODID:-//Lancing Sailing Club - ECPv6.15.20//NONSGML v1.0//EN
CALSCALE:GREGORIAN
METHOD:PUBLISH
X-WR-CALNAME:Lancing Sailing Club
X-ORIGINAL-URL:https://lancingsc.org.uk
X-WR-CALDESC:Events for Lancing Sailing Club
REFRESH-INTERVAL;VALUE=DURATION:PT1H
X-Robots-Tag:noindex
X-PUBLISHED-TTL:PT1H
BEGIN:VTIMEZONE
TZID:Europe/London
BEGIN:DAYLIGHT
TZOFFSETFROM:+0000
TZOFFSETTO:+0100
TZNAME:BST
DTSTART:20230326T010000
END:DAYLIGHT
BEGIN:STANDARD
TZOFFSETFROM:+0100
TZOFFSETTO:+0000
TZNAME:GMT
DTSTART:20231029T010000
END:STANDARD
BEGIN:DAYLIGHT
TZOFFSETFROM:+0000
TZOFFSETTO:+0100
TZNAME:BST
DTSTART:20240331T010000
END:DAYLIGHT
BEGIN:STANDARD
TZOFFSETFROM:+0100
TZOFFSETTO:+0000
TZNAME:GMT
DTSTART:20241027T010000
END:STANDARD
BEGIN:DAYLIGHT
TZOFFSETFROM:+0000
TZOFFSETTO:+0100
TZNAME:BST
DTSTART:20250330T010000
END:DAYLIGHT
BEGIN:STANDARD
TZOFFSETFROM:+0100
TZOFFSETTO:+0000
TZNAME:GMT
DTSTART:20251026T010000
END:STANDARD
END:VTIMEZONE
BEGIN:VEVENT
DTSTART;TZID=Europe/London:20241020T120000
DTEND;TZID=Europe/London:20241020T150000
DTSTAMP:20260421T032754
CREATED:20240101T145937Z
LAST-MODIFIED:20240101T150115Z
UID:15513-1729425600-1729436400@lancingsc.org.uk
SUMMARY:⛵Commodore's Cup 11 & 12 - Sunday 20th October at 11.00 am
DESCRIPTION:HW 13.49 HT 6.6  B2B/PY
URL:https://lancingsc.org.uk/event/commodores-cup-11-12---sunday-20th-october-at-11.00-am/
LOCATION:Lancing SC\, Shopsdam Rd\,\, Lancing\, West Sussex\, BN15 8ES
CATEGORIES:Commodore's Cup
END:VEVENT
END:VCALENDAR